BEGIN:VCALENDAR
VERSION:2.0
PRODID:-//Sabre//Sabre VObject 4.5.8//EN
CALSCALE:GREGORIAN
BEGIN:VEVENT
UID:sabre-vobject-b5af5ae3-97ba-4034-920a-b492e3182577
DTSTAMP:20260421T060537Z
SUMMARY:Karaoke Nite
DESCRIPTION:The HUB Mine Bar will host Karaoke on the second Friday of each
  month from 4:30-7:00PM.\nBistro will be open between 16:00-18:30 for food
  purchases.\n\nHappy Hour 4:30 - 5:30 PM. Half priced appetizer with the p
 urchase of a cocktail\, mocktail\, beer\, or wine.\n
X-ALT-DESC:FMTTYPE=text/html:<!DOCTYPE HTML PUBLIC "-//W3C//DTD HTML 3.2//E
 N"><HTML><p>The HUB Mine Bar will host Karaoke on the second Friday of eac
 h month from 4:30-7:00PM.<br />\nBistro will be open between 16:00-18:30 f
 or food purchases.</p>\n\n<p>Happy Hour 4:30 - 5:30 PM. Half priced appeti
 zer with the purchase of a cocktail\, mocktail\, beer\, or wine.</p>\n</HT
 ML>
CREATED;TZID=Europe/Oslo:20260116T113753
URL;VALUE=URI:https://brunssum.armymwr.com/calendar/event
DTSTART;TZID=Europe/Oslo:20251017T163000
DTEND;TZID=Europe/Oslo:20251017T190000
SEQUENCE:0
END:VEVENT
END:VCALENDAR
