BEGIN:VCALENDAR
VERSION:2.0
PRODID:-//Sabre//Sabre VObject 4.5.8//EN
CALSCALE:GREGORIAN
BEGIN:VEVENT
UID:sabre-vobject-2bcd429d-6117-4249-9479-10f3fb0a659b
DTSTAMP:20260419T145727Z
SUMMARY:Lego Freestyle
DESCRIPTION:Come to the library during opening hours\, relax and get into t
 he building flow.\n
X-ALT-DESC:FMTTYPE=text/html:<!DOCTYPE HTML PUBLIC "-//W3C//DTD HTML 3.2//E
 N"><HTML><p>Come to the library during opening hours\, relax and get into 
 the building flow.</p>\n</HTML>
CREATED;TZID=Europe/Oslo:20251202T145440
URL;VALUE=URI:https://brunssum.armymwr.com/calendar/event
DTSTART;TZID=Europe/Oslo:20251201T140000
DTEND;TZID=Europe/Oslo:20251201T180000
SEQUENCE:0
END:VEVENT
BEGIN:VEVENT
UID:sabre-vobject-03f0be13-645b-4067-9d48-ed2a371953d6
DTSTAMP:20260419T145727Z
SUMMARY:Lego Freestyle
DESCRIPTION:Come to the library during opening hours\, relax and get into t
 he building flow.\n
X-ALT-DESC:FMTTYPE=text/html:<!DOCTYPE HTML PUBLIC "-//W3C//DTD HTML 3.2//E
 N"><HTML><p>Come to the library during opening hours\, relax and get into 
 the building flow.</p>\n</HTML>
CREATED;TZID=Europe/Oslo:20251202T145440
URL;VALUE=URI:https://brunssum.armymwr.com/calendar/event
DTSTART;TZID=Europe/Oslo:20251203T130000
DTEND;TZID=Europe/Oslo:20251203T190000
SEQUENCE:1
END:VEVENT
BEGIN:VEVENT
UID:sabre-vobject-27182583-c269-4bba-90bf-01294bdddabc
DTSTAMP:20260419T145727Z
SUMMARY:Lego Freestyle
DESCRIPTION:Come to the library during opening hours\, relax and get into t
 he building flow.\n
X-ALT-DESC:FMTTYPE=text/html:<!DOCTYPE HTML PUBLIC "-//W3C//DTD HTML 3.2//E
 N"><HTML><p>Come to the library during opening hours\, relax and get into 
 the building flow.</p>\n</HTML>
CREATED;TZID=Europe/Oslo:20251202T145440
URL;VALUE=URI:https://brunssum.armymwr.com/calendar/event
DTSTART;TZID=Europe/Oslo:20251205T130000
DTEND;TZID=Europe/Oslo:20251205T170000
SEQUENCE:2
END:VEVENT
BEGIN:VEVENT
UID:sabre-vobject-511d5dbd-55b1-427f-a230-5f7830d2926d
DTSTAMP:20260419T145727Z
SUMMARY:Lego Freestyle
DESCRIPTION:Come to the library during opening hours\, relax and get into t
 he building flow.\n
X-ALT-DESC:FMTTYPE=text/html:<!DOCTYPE HTML PUBLIC "-//W3C//DTD HTML 3.2//E
 N"><HTML><p>Come to the library during opening hours\, relax and get into 
 the building flow.</p>\n</HTML>
CREATED;TZID=Europe/Oslo:20251202T145440
URL;VALUE=URI:https://brunssum.armymwr.com/calendar/event
DTSTART;TZID=Europe/Oslo:20251206T110000
DTEND;TZID=Europe/Oslo:20251206T140000
SEQUENCE:3
END:VEVENT
END:VCALENDAR
