BEGIN:VCALENDAR
VERSION:2.0
PRODID:-//Sabre//Sabre VObject 4.5.8//EN
CALSCALE:GREGORIAN
BEGIN:VEVENT
UID:sabre-vobject-99364465-2ad5-4c7e-a436-f48579813223
DTSTAMP:20260425T121545Z
SUMMARY:SAC Carnaval Break Camp REGISTRATION IS OPEN 
DESCRIPTION:Get ready for a week of festive fun! 🎭✨\n
X-ALT-DESC:FMTTYPE=text/html:<!DOCTYPE HTML PUBLIC "-//W3C//DTD HTML 3.2//E
 N"><HTML><p>Get ready for a week of festive fun! 🎭✨</p>\n</HTML>
CREATED;TZID=Europe/Oslo:20260115T124508
URL;VALUE=URI:https://brunssum.armymwr.com/calendar/event
DTSTART;TZID=Europe/Oslo:20260115T000000
DTEND;TZID=Europe/Oslo:19700101T235959
SEQUENCE:0
END:VEVENT
END:VCALENDAR
