BEGIN:VCALENDAR
VERSION:2.0
PRODID:-//Sabre//Sabre VObject 4.5.8//EN
CALSCALE:GREGORIAN
BEGIN:VEVENT
UID:sabre-vobject-50f71e2b-b0b3-4482-acec-42f1f5afcec3
DTSTAMP:20260422T184219Z
SUMMARY:Parent's Day Out
DESCRIPTION:💖 This Mother&#39\;s Day\, give the gift of&nbsp\;time! 💖
 \n
X-ALT-DESC:FMTTYPE=text/html:<!DOCTYPE HTML PUBLIC "-//W3C//DTD HTML 3.2//E
 N"><HTML><p>💖 This Mother&#39\;s Day\, give the gift of&nbsp\;<em>time<
 /em>! 💖</p>\n</HTML>
CREATED;TZID=Europe/Oslo:20260416T120446
URL;VALUE=URI:https://brunssum.armymwr.com/calendar/event
DTSTART;TZID=Europe/Oslo:20260509T110000
DTEND;TZID=Europe/Oslo:20260509T150000
SEQUENCE:0
END:VEVENT
END:VCALENDAR
