BEGIN:VCALENDAR
VERSION:2.0
PRODID:-//Sabre//Sabre VObject 4.5.8//EN
CALSCALE:GREGORIAN
BEGIN:VEVENT
UID:sabre-vobject-a82379f8-7164-415b-aafa-6d688c834adb
DTSTAMP:20260422T184218Z
SUMMARY:Volunteer Recognition Ceremony
DESCRIPTION:🎖️ Honoring Our Heroes: Volunteer Recognition Ceremony 
 🎖️\n
X-ALT-DESC:FMTTYPE=text/html:<!DOCTYPE HTML PUBLIC "-//W3C//DTD HTML 3.2//E
 N"><HTML><h3>🎖️ Honoring Our Heroes: Volunteer Recognition Ceremony 
 🎖️</h3>\n</HTML>
CREATED;TZID=Europe/Oslo:20260421T160517
URL;VALUE=URI:https://brunssum.armymwr.com/calendar/event
DTSTART;TZID=Europe/Oslo:20260508T120000
DTEND;TZID=Europe/Oslo:20260508T130000
SEQUENCE:0
END:VEVENT
END:VCALENDAR
