BEGIN:VCALENDAR
VERSION:2.0
PRODID:-//Sabre//Sabre VObject 4.5.8//EN
CALSCALE:GREGORIAN
BEGIN:VEVENT
UID:sabre-vobject-891bd862-563d-46e6-b3c5-96cbd872233d
DTSTAMP:20260421T085751Z
SUMMARY:Fitness Instructors Needed
DESCRIPTION:Help to keep our community in shape!\n
X-ALT-DESC:FMTTYPE=text/html:<!DOCTYPE HTML PUBLIC "-//W3C//DTD HTML 3.2//E
 N"><HTML><p>Help to keep our community in shape!</p>\n</HTML>
CREATED;TZID=Europe/Oslo:20170913T134548
URL;VALUE=URI:https://brunssum.armymwr.com/calendar/event
DTSTART;TZID=Europe/Oslo:20160205T010000
DTEND;TZID=Europe/Oslo:20160206T005959
SEQUENCE:0
END:VEVENT
END:VCALENDAR
