BEGIN:VCALENDAR
VERSION:2.0
PRODID:-//Sabre//Sabre VObject 4.5.8//EN
CALSCALE:GREGORIAN
BEGIN:VEVENT
UID:sabre-vobject-798e15a8-c77b-4ae7-921a-887c91e4a6ca
DTSTAMP:20260422T051519Z
SUMMARY:Puzzle Mania
DESCRIPTION:
X-ALT-DESC:FMTTYPE=text/html:<!DOCTYPE HTML PUBLIC "-//W3C//DTD HTML 3.2//E
 N"><HTML></HTML>
CREATED;TZID=Europe/Oslo:20230417T104108
URL;VALUE=URI:https://brunssum.armymwr.com/calendar/event
DTSTART;TZID=Europe/Oslo:20230510T100000
DTEND;TZID=Europe/Oslo:20230510T190000
SEQUENCE:0
END:VEVENT
END:VCALENDAR
