BEGIN:VCALENDAR
VERSION:2.0
PRODID:-//Sabre//Sabre VObject 4.5.8//EN
CALSCALE:GREGORIAN
BEGIN:VEVENT
UID:sabre-vobject-9745a5ce-4554-4572-baa2-49511f54b0c9
DTSTAMP:20260421T085751Z
SUMMARY:CYS CO ED Fall Soccer Registration
DESCRIPTION:
X-ALT-DESC:FMTTYPE=text/html:<!DOCTYPE HTML PUBLIC "-//W3C//DTD HTML 3.2//E
 N"><HTML></HTML>
CREATED;TZID=Europe/Oslo:20230725T154721
URL;VALUE=URI:https://brunssum.armymwr.com/calendar/event
DTSTART;TZID=Europe/Oslo:20230605T000000
DTEND;TZID=Europe/Oslo:20230804T235959
SEQUENCE:0
END:VEVENT
END:VCALENDAR
