BEGIN:VCALENDAR
VERSION:2.0
PRODID:-//Sabre//Sabre VObject 4.5.8//EN
CALSCALE:GREGORIAN
BEGIN:VEVENT
UID:sabre-vobject-e6448f5b-9baa-444b-8b0c-55123285adc0
DTSTAMP:20260420T131822Z
SUMMARY:CYS Fall Archery Clinic Enrollments
DESCRIPTION:
X-ALT-DESC:FMTTYPE=text/html:<!DOCTYPE HTML PUBLIC "-//W3C//DTD HTML 3.2//E
 N"><HTML></HTML>
CREATED;TZID=Europe/Oslo:20230501T144220
URL;VALUE=URI:https://brunssum.armymwr.com/calendar/event
DTSTART;TZID=Europe/Oslo:20230703T143000
DTEND;TZID=Europe/Oslo:20230804T153000
SEQUENCE:0
END:VEVENT
END:VCALENDAR
