BEGIN:VCALENDAR
VERSION:2.0
PRODID:-//Sabre//Sabre VObject 4.5.8//EN
CALSCALE:GREGORIAN
BEGIN:VEVENT
UID:sabre-vobject-21de6d88-18a3-4f57-995b-f02c9fae080e
DTSTAMP:20260419T212845Z
SUMMARY:CYS SAC Fall Break Camp Registration
DESCRIPTION:
X-ALT-DESC:FMTTYPE=text/html:<!DOCTYPE HTML PUBLIC "-//W3C//DTD HTML 3.2//E
 N"><HTML></HTML>
CREATED;TZID=Europe/Oslo:20230920T100600
URL;VALUE=URI:https://brunssum.armymwr.com/calendar/event
DTSTART;TZID=Europe/Oslo:20230920T000000
DTEND;TZID=Europe/Oslo:20231018T235959
SEQUENCE:0
END:VEVENT
END:VCALENDAR
