BEGIN:VCALENDAR
VERSION:2.0
PRODID:-//Sabre//Sabre VObject 4.5.8//EN
CALSCALE:GREGORIAN
BEGIN:VEVENT
UID:sabre-vobject-1311ab86-2e53-47b5-a19c-c167ed3a822f
DTSTAMP:20260425T184633Z
SUMMARY:Hub Hill Haunting- Cancelled 
DESCRIPTION:Costume Party\n
X-ALT-DESC:FMTTYPE=text/html:<!DOCTYPE HTML PUBLIC "-//W3C//DTD HTML 3.2//E
 N"><HTML><p>Costume Party</p>\n</HTML>
CREATED;TZID=Europe/Oslo:20231025T094409
URL;VALUE=URI:https://brunssum.armymwr.com/calendar/event
DTSTART;TZID=Europe/Oslo:20231028T190000
DTEND;TZID=Europe/Oslo:20231028T200000
SEQUENCE:0
END:VEVENT
END:VCALENDAR
