BEGIN:VCALENDAR
VERSION:2.0
PRODID:-//Sabre//Sabre VObject 4.5.8//EN
CALSCALE:GREGORIAN
BEGIN:VEVENT
UID:sabre-vobject-7ae0d08d-7a43-475a-8a09-bdd77888ef90
DTSTAMP:20260425T202311Z
SUMMARY:MST Fright Fest
DESCRIPTION:
X-ALT-DESC:FMTTYPE=text/html:<!DOCTYPE HTML PUBLIC "-//W3C//DTD HTML 3.2//E
 N"><HTML></HTML>
CREATED;TZID=Europe/Oslo:20231018T095500
URL;VALUE=URI:https://brunssum.armymwr.com/calendar/event
DTSTART;TZID=Europe/Oslo:20231027T180000
DTEND;TZID=Europe/Oslo:20231027T210000
SEQUENCE:0
END:VEVENT
END:VCALENDAR
