BEGIN:VCALENDAR
VERSION:2.0
PRODID:-//Sabre//Sabre VObject 4.5.8//EN
CALSCALE:GREGORIAN
BEGIN:VEVENT
UID:sabre-vobject-b0e2eef7-8953-4fe0-8a37-2f5e870e82fc
DTSTAMP:20260424T144437Z
SUMMARY:CYS Family Bingo Night
DESCRIPTION:
X-ALT-DESC:FMTTYPE=text/html:<!DOCTYPE HTML PUBLIC "-//W3C//DTD HTML 3.2//E
 N"><HTML></HTML>
CREATED;TZID=Europe/Oslo:20231025T165711
URL;VALUE=URI:https://brunssum.armymwr.com/calendar/event
DTSTART;TZID=Europe/Oslo:20231117T180000
DTEND;TZID=Europe/Oslo:20231117T193000
SEQUENCE:0
END:VEVENT
END:VCALENDAR
