BEGIN:VCALENDAR
VERSION:2.0
PRODID:-//Sabre//Sabre VObject 4.5.8//EN
CALSCALE:GREGORIAN
BEGIN:VEVENT
UID:sabre-vobject-e44a82e8-2261-4a56-982a-ccec5c8a52b9
DTSTAMP:20260425T035556Z
SUMMARY:Brunssum Community Thanksgiving
DESCRIPTION:
X-ALT-DESC:FMTTYPE=text/html:<!DOCTYPE HTML PUBLIC "-//W3C//DTD HTML 3.2//E
 N"><HTML></HTML>
CREATED;TZID=Europe/Oslo:20231113T135729
URL;VALUE=URI:https://brunssum.armymwr.com/calendar/event
DTSTART;TZID=Europe/Oslo:20231120T113000
DTEND;TZID=Europe/Oslo:20231120T130000
SEQUENCE:0
END:VEVENT
END:VCALENDAR
