BEGIN:VCALENDAR
VERSION:2.0
PRODID:-//Sabre//Sabre VObject 4.5.8//EN
CALSCALE:GREGORIAN
BEGIN:VEVENT
UID:sabre-vobject-d34cc0ef-ea9c-4338-aed9-f9339b5ae548
DTSTAMP:20260425T000608Z
SUMMARY:Brunssum Aachen Christmas Market Day Trip Registration
DESCRIPTION:
X-ALT-DESC:FMTTYPE=text/html:<!DOCTYPE HTML PUBLIC "-//W3C//DTD HTML 3.2//E
 N"><HTML></HTML>
CREATED;TZID=Europe/Oslo:20231120T130508
URL;VALUE=URI:https://brunssum.armymwr.com/calendar/event
DTSTART;TZID=Europe/Oslo:20231101T000000
DTEND;TZID=Europe/Oslo:20231205T235959
SEQUENCE:0
END:VEVENT
END:VCALENDAR
