BEGIN:VCALENDAR
VERSION:2.0
PRODID:-//Sabre//Sabre VObject 4.5.8//EN
CALSCALE:GREGORIAN
BEGIN:VEVENT
UID:sabre-vobject-7da8ee9a-5cda-49dc-820f-913c744113ea
DTSTAMP:20260425T233556Z
SUMMARY:Lego Freestyle
DESCRIPTION:Welcome to come and create with Legos every First Saturday of e
 ach month.\n
X-ALT-DESC:FMTTYPE=text/html:<!DOCTYPE HTML PUBLIC "-//W3C//DTD HTML 3.2//E
 N"><HTML><p>Welcome to come and create with Legos every First Saturday of 
 each month.</p>\n</HTML>
CREATED;TZID=Europe/Oslo:20250324T142406
URL;VALUE=URI:https://brunssum.armymwr.com/calendar/event
DTSTART;TZID=Europe/Oslo:20250405T110000
DTEND;TZID=Europe/Oslo:20250405T140000
SEQUENCE:0
END:VEVENT
END:VCALENDAR
